BEGIN:VCALENDAR
VERSION:2.0
PRODID:-//ExpressionEngine Easy iCalendar plugin//NONSGML v2.0.1//EN
X-WR-TIMEZONE:America/New_York
X-WR-CALNAME:Upcoming Auctions
BEGIN:VEVENT
UID:139482
DTSTAMP:20250423T144500
DTSTART:20250423T144500
DTEND:20250505T200000
SUMMARY:Tinkling Spring Gallery #220
LOCATION:2177 Tinkling Spring RD \, Stuarts Draft\, VA 24477\, US
DESCRIPTION:Highly desirable and valuable items up for auction! Gold coi
 ns\, fine gold and pearl jewelry\, wrist watches\, Amish made o
 ak furniture\, cast-iron skillets from Griswold\, Wagner Ware\,
  Wapak and others. It all sells to the highest bidders! Bid 
 now. 
URL:https://www.enlistedauctions.com/auctions/detail/bw139482
SEQUENCE:1
END:VEVENT
END:VCALENDAR