BEGIN:VCALENDAR
VERSION:2.0
PRODID:-//ExpressionEngine Easy iCalendar plugin//NONSGML v2.0.0//EN
X-WR-TIMEZONE:America/Indiana/Indianapolis
X-WR-CALNAME:Upcoming Auctions
BEGIN:VEVENT
UID:139296
DTSTAMP:20250421T074900
DTSTART:20250421T074900
DTEND:20250506T200000
SUMMARY:Cold Springs Gallery #2120
LOCATION:1210 Cold Springs Rd\, Stuarts Draft\, VA 24477\, US
DESCRIPTION:Fine furniture\, Waterford crystal\, gardening equipment\, leat
 her living room furniture\, dining tables and fine china for 
 sale to the highest bidder! Over 560 items to browse through
  and place your bids on. 
URL:https://www.enlistedauctions.com/auctions/detail/bw139296
SEQUENCE:1
END:VEVENT
END:VCALENDAR