BEGIN:VCALENDAR
VERSION:2.0
PRODID:-//ExpressionEngine Easy iCalendar plugin//NONSGML v2.0.0//EN
X-WR-TIMEZONE:America/Indiana/Indianapolis
X-WR-CALNAME:Upcoming Auctions
BEGIN:VEVENT
UID:139295
DTSTAMP:20250421T074400
DTSTART:20250421T074400
DTEND:20250429T194500
SUMMARY:Hidden Treasures Gallery #3119
LOCATION:1210 Cold Springs Rd\, Stuarts Draft\, VA 24477\, US
DESCRIPTION:Sports collectibles\, furniture\, toys\, stock notes and much m
 ore! Bid your price - everything goes. 
URL:https://www.enlistedauctions.com/auctions/detail/bw139295
SEQUENCE:1
END:VEVENT
END:VCALENDAR