BEGIN:VCALENDAR
VERSION:2.0
PRODID:-//ExpressionEngine Easy iCalendar plugin//NONSGML v2.0.0//EN
X-WR-TIMEZONE:America/New_York
X-WR-CALNAME:Upcoming Auctions
BEGIN:VEVENT
UID:139257
DTSTAMP:20250423T162200
DTSTART:20250423T162200
DTEND:20250506T200000
SUMMARY:Coins and Currency #5120
LOCATION:1210 Cold Springs Rd\, Stuarts Draft\, VA 24477\, US
DESCRIPTION:Another great coin and currency auction for your bidding ple
 asure! 
URL:https://www.enlistedauctions.com/auctions/detail/bw139257
SEQUENCE:1
END:VEVENT
END:VCALENDAR