BEGIN:VCALENDAR
VERSION:2.0
PRODID:-//ExpressionEngine Easy iCalendar plugin//NONSGML v2.0.0//EN
X-WR-TIMEZONE:America/New_York
X-WR-CALNAME:Upcoming Auctions
BEGIN:VEVENT
UID:139114
DTSTAMP:20250416T153000
DTSTART:20250416T153000
DTEND:20250428T200000
SUMMARY:Tinkling Spring Gallery #219
LOCATION:2177 Tinkling Spring RD \, Stuarts Draft\, VA 24477\, US
DESCRIPTION:Nice selection of items. NASCAR collectibles\, Yankee candles
 \, furniture\, rustic household decor\, lawn mowers\, hand tools
  and more! Everything sells regardless of price. 
URL:https://www.enlistedauctions.com/auctions/detail/bw139114
SEQUENCE:1
END:VEVENT
END:VCALENDAR