BEGIN:VCALENDAR
VERSION:2.0
PRODID:-//ExpressionEngine Easy iCalendar plugin//NONSGML v2.0.0//EN
X-WR-TIMEZONE:America/New_York
X-WR-CALNAME:Upcoming Auctions
BEGIN:VEVENT
UID:138605
DTSTAMP:20250408T144300
DTSTART:20250408T144300
DTEND:20250421T200000
SUMMARY:Tinkling Spring Gallery #218
LOCATION:2177 Tinkling Spring RD \, Stuarts Draft\, VA 24477\, US
DESCRIPTION:Estate Auction – Marshall Estate of Waynesboro\, VA This au
 ction features 500 items from a clean\, well-kept home—eve
 rything will sell to the highest bidder regardless of price!
  Discover a fantastic selection of Virginia Metalcrafters\, L
 isa Geiman prints\, Linda Patrick\, and P. Buckley Moss art. Y
 ou'll also find rustic-style home décor\, candles\, brand new
  clothing\, and so much more. Don’t miss this opportunity t
 o bid on quality pieces from a beautifully cared-for estate!
URL:https://www.enlistedauctions.com/auctions/detail/bw138605
SEQUENCE:1
END:VEVENT
END:VCALENDAR