BEGIN:VCALENDAR
VERSION:2.0
PRODID:-//ExpressionEngine Easy iCalendar plugin//NONSGML v2.0.0//EN
X-WR-TIMEZONE:America/Indiana/Indianapolis
X-WR-CALNAME:Upcoming Auctions
BEGIN:VEVENT
UID:138473
DTSTAMP:20250407T072900
DTSTART:20250407T072900
DTEND:20250415T194500
SUMMARY:Hidden Treasures Gallery #3117
LOCATION:1210 Cold Springs Rd\, Stuarts Draft\, VA 24477\, US
DESCRIPTION:LOCATION: 1210 Cold Springs Rd\, Stuarts Draft\, VA\, 24477 PRE
 VIEW: Any Tuesday from 3 PM to 6 PM or any Wednesday from 8 
 AM to 10 AM or 3 PM to 6 PM PICKUP: Wednesday\, April 16\, 202
 5\, from 8-10 AM 3-6 PM. CONTACT: Office (540) 337-3446\, inf
 o@enlistedauctions.com Buyer's Premium: 10% 3% card processi
 ng fee All items are sold AS IS with no warranties expressed
  or implied Shipping is available. Buyer pays shipping and h
 andling. Items shipped through UPS. Items not claimed by the
  end of the scheduled pickup times will be charged a $5 alte
 rnate pickup fee. Larger items will be subject to an additi
 onal storage fee.
URL:https://www.enlistedauctions.com/auctions/detail/bw138473
SEQUENCE:1
END:VEVENT
END:VCALENDAR