BEGIN:VCALENDAR
VERSION:2.0
PRODID:-//ExpressionEngine Easy iCalendar plugin//NONSGML v2.0.0//EN
X-WR-TIMEZONE:America/Indiana/Indianapolis
X-WR-CALNAME:Upcoming Auctions
BEGIN:VEVENT
UID:138321
DTSTAMP:20250402T175500
DTSTART:20250402T175500
DTEND:20250415T200000
SUMMARY:Cold Springs Gallery #2117
LOCATION:1210 Cold Springs Rd\, Stuarts Draft\, VA 24477\, US
DESCRIPTION:Nesselrodt Estate items from Mount Crawford\, Va. Bid for too
 ls\, household furniture\, farming items\, ladders\, paintings a
 nd more from this Rockingham County estate! 
URL:https://www.enlistedauctions.com/auctions/detail/bw138321
SEQUENCE:1
END:VEVENT
END:VCALENDAR