BEGIN:VCALENDAR
VERSION:2.0
PRODID:-//ExpressionEngine Easy iCalendar plugin//NONSGML v2.0.0//EN
X-WR-TIMEZONE:America/Indiana/Indianapolis
X-WR-CALNAME:Upcoming Auctions
BEGIN:VEVENT
UID:138164
DTSTAMP:20250401T070100
DTSTART:20250401T070100
DTEND:20250408T194500
SUMMARY:Hidden Treasures Gallery #3116
LOCATION:1210 Cold Springs Rd\, Stuarts Draft\, VA 24477\, US
DESCRIPTION:Tools\, furniture\, Hot Wheels cars\, table saw\, neon sign and 
 more are selling to the highest bidder - bid today! 
URL:https://www.enlistedauctions.com/auctions/detail/bw138164
SEQUENCE:1
END:VEVENT
END:VCALENDAR