BEGIN:VCALENDAR
VERSION:2.0
PRODID:-//ExpressionEngine Easy iCalendar plugin//NONSGML v2.0.0//EN
X-WR-TIMEZONE:America/New_York
X-WR-CALNAME:Upcoming Auctions
BEGIN:VEVENT
UID:137867
DTSTAMP:20250326T132400
DTSTART:20250326T132400
DTEND:20250407T200000
SUMMARY:Tinkling Spring Gallery #216
LOCATION:2177 Tinkling Spring RD \, Stuarts Draft\, VA 24477\, US
DESCRIPTION:Tool auction! Planers\, band saw\, dust collection system\, air
  filtration systems\, power tools and more are are selling to
  the highest bidder! Start bidding today. 
URL:https://www.enlistedauctions.com/auctions/detail/bw137867
SEQUENCE:1
END:VEVENT
END:VCALENDAR