BEGIN:VCALENDAR
VERSION:2.0
PRODID:-//ExpressionEngine Easy iCalendar plugin//NONSGML v2.0.0//EN
X-WR-TIMEZONE:America/Indiana/Indianapolis
X-WR-CALNAME:Upcoming Auctions
BEGIN:VEVENT
UID:137807
DTSTAMP:20250325T153700
DTSTART:20250325T153700
DTEND:20250408T200000
SUMMARY:Cold Springs Gallery #2116
LOCATION:1210 Cold Springs Rd\, Stuarts Draft\, VA 24477\, US
DESCRIPTION:Two new mini-split units\, antique glassware\, Aunt Jemima fig
 urines\, furniture\, outdoor figurines\, quilts and other uniqu
 e treasures! 
URL:https://www.enlistedauctions.com/auctions/detail/bw137807
SEQUENCE:1
END:VEVENT
END:VCALENDAR