BEGIN:VCALENDAR
VERSION:2.0
PRODID:-//ExpressionEngine Easy iCalendar plugin//NONSGML v2.0.0//EN
X-WR-TIMEZONE:America/New_York
X-WR-CALNAME:Upcoming Auctions
BEGIN:VEVENT
UID:137515
DTSTAMP:20250327T150300
DTSTART:20250327T150300
DTEND:20250424T200000
SUMMARY:Farm Equipment - Mt. Crawford Estate Auction
LOCATION:5930 Valley Branch Rd\, Mount Crawford\, VA 22841\, US
DESCRIPTION:Bid for items from this Mount Crawford farm. Implements\, too
 ls\, hay elevator\, cattle guard\, lumber and more. Everything 
 sells regardless of price! 
URL:https://www.enlistedauctions.com/auctions/detail/bw137515
SEQUENCE:1
END:VEVENT
END:VCALENDAR