BEGIN:VCALENDAR
VERSION:2.0
PRODID:-//ExpressionEngine Easy iCalendar plugin//NONSGML v2.0.0//EN
X-WR-TIMEZONE:America/New_York
X-WR-CALNAME:Upcoming Auctions
BEGIN:VEVENT
UID:137395
DTSTAMP:20250319T090800
DTSTART:20250319T090800
DTEND:20250331T200000
SUMMARY:Tinkling Spring Gallery #215
LOCATION:2177 Tinkling Spring RD \, Stuarts Draft\, VA 24477\, US
DESCRIPTION:Wonderful selection: Mercedes C-Class\, Polaris ATV\, Gravely 
 lawn tractor\, sterling silver flatware set\, John Deere die-c
 ast tractors\, stair chair\, tools AND MORE! Bid YOUR price to
 day. 
URL:https://www.enlistedauctions.com/auctions/detail/bw137395
SEQUENCE:1
END:VEVENT
END:VCALENDAR