BEGIN:VCALENDAR
VERSION:2.0
PRODID:-//ExpressionEngine Easy iCalendar plugin//NONSGML v2.0.0//EN
X-WR-TIMEZONE:America/Indiana/Indianapolis
X-WR-CALNAME:Upcoming Auctions
BEGIN:VEVENT
UID:137339
DTSTAMP:20250318T145900
DTSTART:20250318T145900
DTEND:20250401T200000
SUMMARY:Cold Springs Gallery #2115
LOCATION:1210 Cold Springs Rd\, Stuarts Draft\, VA 24477\, US
DESCRIPTION:Ford Ranger\, Cyclone rake\, canoe\, jewelry\, billiards cue sti
 cks\, lambs and many more items are selling to the highest bi
 dders regardless of price! Start bidding today. 
URL:https://www.enlistedauctions.com/auctions/detail/bw137339
SEQUENCE:1
END:VEVENT
END:VCALENDAR