BEGIN:VCALENDAR
VERSION:2.0
PRODID:-//ExpressionEngine Easy iCalendar plugin//NONSGML v2.0.0//EN
X-WR-TIMEZONE:America/Indiana/Indianapolis
X-WR-CALNAME:Upcoming Auctions
BEGIN:VEVENT
UID:137212
DTSTAMP:20250317T074400
DTSTART:20250317T074400
DTEND:20250325T194500
SUMMARY:Hidden Treasures Gallery #3114
LOCATION:1210 Cold Springs Rd\, Stuarts Draft\, VA 24477\, US
DESCRIPTION:Bid your price for quilts\, tools\, furniture\, Linda Patrick a
 nd P. Buckley Moss prints\, soda machine and MORE! 
URL:https://www.enlistedauctions.com/auctions/detail/bw137212
SEQUENCE:1
END:VEVENT
END:VCALENDAR