BEGIN:VCALENDAR
VERSION:2.0
PRODID:-//ExpressionEngine Easy iCalendar plugin//NONSGML v2.0.0//EN
X-WR-TIMEZONE:America/Indiana/Indianapolis
X-WR-CALNAME:Upcoming Auctions
BEGIN:VEVENT
UID:136793
DTSTAMP:20250310T073700
DTSTART:20250310T073700
DTEND:20250318T194500
SUMMARY:Hidden Treasures Gallery #3113
LOCATION:1210 Cold Springs Rd\, Stuarts Draft\, VA 24477\, US
DESCRIPTION:Boats\, Miller welder\, riding mower\, Pokémon cards\, crossbow
 \, tools and MORE! It all sells so start bidding now! 
URL:https://www.enlistedauctions.com/auctions/detail/bw136793
SEQUENCE:1
END:VEVENT
END:VCALENDAR