BEGIN:VCALENDAR
VERSION:2.0
PRODID:-//ExpressionEngine Easy iCalendar plugin//NONSGML v2.0.0//EN
X-WR-TIMEZONE:America/New_York
X-WR-CALNAME:Upcoming Auctions
BEGIN:VEVENT
UID:136562
DTSTAMP:20250304T160500
DTSTART:20250304T160500
DTEND:20250326T200000
SUMMARY:Ammo and Accessories #5214
LOCATION:2177 Tinkling Spring RD \, Stuarts Draft\, VA 24477\, US
DESCRIPTION:Great selection of ammo! 270\, 300 Win\, 17 HMR\, foot traps\, h
 unting blind\, Leupold scope\, night optics and MORE! Everythi
 ng sells regardless of price 
URL:https://www.enlistedauctions.com/auctions/detail/bw136562
SEQUENCE:1
END:VEVENT
END:VCALENDAR