BEGIN:VCALENDAR
VERSION:2.0
PRODID:-//ExpressionEngine Easy iCalendar plugin//NONSGML v2.0.0//EN
X-WR-TIMEZONE:America/New_York
X-WR-CALNAME:Upcoming Auctions
BEGIN:VEVENT
UID:136500
DTSTAMP:20250312T170400
DTSTART:20250312T170400
DTEND:20250326T200000
SUMMARY:Firearms - March 2025
LOCATION:2177 Tinkling Spring Rd\, Stuarts Draft\, VA 24477\, US
DESCRIPTION:Fantastic selection of firearms for your bidding pleasure: O
 ver (15) Remington 700s\, a Parker double barrel\, Christense
 n Arms rifles\, Browning\, Marlin\, Weatherby\, Henry\, Wincheste
 r\, Ruger\, Colt\, and many more! 
URL:https://www.enlistedauctions.com/auctions/detail/bw136500
SEQUENCE:1
END:VEVENT
END:VCALENDAR