BEGIN:VCALENDAR
VERSION:2.0
PRODID:-//ExpressionEngine Easy iCalendar plugin//NONSGML v2.0.0//EN
X-WR-TIMEZONE:America/New_York
X-WR-CALNAME:Upcoming Auctions
BEGIN:VEVENT
UID:135881
DTSTAMP:20250219T143100
DTSTART:20250219T143100
DTEND:20250227T200000
SUMMARY:Keystone Homeschool Collaborative Fundraiser
LOCATION:1614 W Beverley St\, Staunton\, VA 24401\, US
DESCRIPTION:Bid and support the Keystone Homeschool Collaborative! 
URL:https://www.enlistedauctions.com/auctions/detail/bw135881
SEQUENCE:1
END:VEVENT
END:VCALENDAR