BEGIN:VCALENDAR
VERSION:2.0
PRODID:-//ExpressionEngine Easy iCalendar plugin//NONSGML v2.0.0//EN
X-WR-TIMEZONE:America/Indiana/Indianapolis
X-WR-CALNAME:Upcoming Auctions
BEGIN:VEVENT
UID:135842
DTSTAMP:20250218T160800
DTSTART:20250218T160800
DTEND:20250304T200000
SUMMARY:Cold Springs Gallery #2111
LOCATION:1210 Cold Springs Rd\, Stuarts Draft\, VA 24477\, US
DESCRIPTION:Great auction with a wide variety of items! Commercial mixer
 \, Henkel-Harris furniture\, king bed\, Willow Tree and Jim Sho
 re figurines\, P. Buckley Moss and MaVessey prints and 400 mo
 re sweet items! Bid now. 
URL:https://www.enlistedauctions.com/auctions/detail/bw135842
SEQUENCE:1
END:VEVENT
END:VCALENDAR