BEGIN:VCALENDAR
VERSION:2.0
PRODID:-//ExpressionEngine Easy iCalendar plugin//NONSGML v2.0.0//EN
X-WR-TIMEZONE:America/New_York
X-WR-CALNAME:Upcoming Auctions
BEGIN:VEVENT
UID:135837
DTSTAMP:20250225T155200
DTSTART:20250225T155200
DTEND:20250318T200000
SUMMARY:Coins and Currency #5113
LOCATION:1210 Cold Springs Rd\, Stuarts Draft\, VA 24477\, US
DESCRIPTION:Another great coin and currency auction for your bidding ple
 asure! Gold and silver bars\, Morgan dollars\, Silver Eagles a
 s well as other graded and loose coins! Whether you're start
 ing your collection or adding to it you don't want to miss t
 his one! 
URL:https://www.enlistedauctions.com/auctions/detail/bw135837
SEQUENCE:1
END:VEVENT
END:VCALENDAR