BEGIN:VCALENDAR
VERSION:2.0
PRODID:-//ExpressionEngine Easy iCalendar plugin//NONSGML v2.0.0//EN
X-WR-TIMEZONE:America/Indiana/Indianapolis
X-WR-CALNAME:Upcoming Auctions
BEGIN:VEVENT
UID:135693
DTSTAMP:20250217T074400
DTSTART:20250217T074400
DTEND:20250225T194500
SUMMARY:Hidden Treasures Gallery #3110
LOCATION:1210 Cold Springs Rd\, Stuarts Draft\, VA 24477\, US
DESCRIPTION:MLB collectibles\, Star Wars figurines\, 3 point implements\, f
 urniture and MORE! Bid your price today. 
URL:https://www.enlistedauctions.com/auctions/detail/bw135693
SEQUENCE:1
END:VEVENT
END:VCALENDAR