BEGIN:VCALENDAR
VERSION:2.0
PRODID:-//ExpressionEngine Easy iCalendar plugin//NONSGML v2.0.0//EN
X-WR-TIMEZONE:America/New_York
X-WR-CALNAME:Upcoming Auctions
BEGIN:VEVENT
UID:135637
DTSTAMP:20250214T145700
DTSTART:20250214T145700
DTEND:20250224T200000
SUMMARY:Hemp Bedding
LOCATION:2421 Stuarts Draft Hwy\, Stuarts Draft\, VA 24477\, US
DESCRIPTION:New hemp bedding in bulk selling to the highest bidder! 
URL:https://www.enlistedauctions.com/auctions/detail/bw135637
SEQUENCE:1
END:VEVENT
END:VCALENDAR