BEGIN:VCALENDAR
VERSION:2.0
PRODID:-//ExpressionEngine Easy iCalendar plugin//NONSGML v2.0.0//EN
X-WR-TIMEZONE:America/New_York
X-WR-CALNAME:Upcoming Auctions
BEGIN:VEVENT
UID:135450
DTSTAMP:20250212T075800
DTSTART:20250212T075800
DTEND:20250224T200000
SUMMARY:Tinkling Spring Gallery #210
LOCATION:2177 Tinkling Spring RD \, Stuarts Draft\, VA 24477\, US
DESCRIPTION:Snow Blower\, lawn sweeper\, Clown and circus collectibles\, fu
 rniture\, new batteries\, TVs and MORE are all available. Bid 
 now! 
URL:https://www.enlistedauctions.com/auctions/detail/bw135450
SEQUENCE:1
END:VEVENT
END:VCALENDAR