BEGIN:VCALENDAR
VERSION:2.0
PRODID:-//ExpressionEngine Easy iCalendar plugin//NONSGML v2.0.0//EN
X-WR-TIMEZONE:America/New_York
X-WR-CALNAME:Upcoming Auctions
BEGIN:VEVENT
UID:135414
DTSTAMP:20250321T000000
DTSTART:20250321T000000
DTEND:20250417T190000
SUMMARY:Equipment and Vehicles - April 2025
LOCATION:2402 Stuarts Draft Hwy\, Stuarts Draft\, VA 24477\, US
DESCRIPTION:Very nice selection of equipment and vehicles for your biddi
 ng pleasure. Tractors from 22-90hp\, John Deere Gator\, skid 
 steer\, back hoe\, dump truck\, mowers\, implements and MORE! Bi
 d your price today. 
URL:https://www.enlistedauctions.com/auctions/detail/bw135414
SEQUENCE:1
END:VEVENT
END:VCALENDAR