BEGIN:VCALENDAR
VERSION:2.0
PRODID:-//ExpressionEngine Easy iCalendar plugin//NONSGML v2.0.0//EN
X-WR-TIMEZONE:America/Indiana/Indianapolis
X-WR-CALNAME:Upcoming Auctions
BEGIN:VEVENT
UID:135306
DTSTAMP:20250210T074900
DTSTART:20250210T074900
DTEND:20250218T194500
SUMMARY:Hidden Treasures Gallery #3109
LOCATION:1210 Cold Springs Rd\, Stuarts Draft\, VA 24477\, US
DESCRIPTION:Single seller collection of action figurines\, NASCAR stock c
 ars\, Star Wars collectibles and MORE! Bid your price - every
 thing sells regardless of price! 
URL:https://www.enlistedauctions.com/auctions/detail/bw135306
SEQUENCE:1
END:VEVENT
END:VCALENDAR