BEGIN:VCALENDAR
VERSION:2.0
PRODID:-//ExpressionEngine Easy iCalendar plugin//NONSGML v2.0.0//EN
X-WR-TIMEZONE:America/New_York
X-WR-CALNAME:Upcoming Auctions
BEGIN:VEVENT
UID:135146
DTSTAMP:20250206T081500
DTSTART:20250206T081500
DTEND:20250217T200000
SUMMARY:Tinkling Spring Gallery #209
LOCATION:2177 Tinkling Spring RD \, Stuarts Draft\, VA 24477\, US
DESCRIPTION:Valley Bee Supply has closed and we are liquidating their st
 ore inventory! New beekeeping suits and supplies are all sel
 ling with no reserves! Bid your price today. 
URL:https://www.enlistedauctions.com/auctions/detail/bw135146
SEQUENCE:1
END:VEVENT
END:VCALENDAR