BEGIN:VCALENDAR
VERSION:2.0
PRODID:-//ExpressionEngine Easy iCalendar plugin//NONSGML v2.0.0//EN
X-WR-TIMEZONE:America/New_York
X-WR-CALNAME:Upcoming Auctions
BEGIN:VEVENT
UID:135035
DTSTAMP:20250204T161700
DTSTART:20250204T161700
DTEND:20250218T200000
SUMMARY:Cold Springs Gallery #2109
LOCATION:1210 Cold Springs Rd\, Stuarts Draft\, VA 24477\, US
DESCRIPTION:Nice selection of items from La-Z-Boy recliners to Longaberg
 er baskets and pottery\, Temptations kitchenware\, toys\, furni
 ture and MORE! 
URL:https://www.enlistedauctions.com/auctions/detail/bw135035
SEQUENCE:1
END:VEVENT
END:VCALENDAR