BEGIN:VCALENDAR
VERSION:2.0
PRODID:-//ExpressionEngine Easy iCalendar plugin//NONSGML v2.0.0//EN
X-WR-TIMEZONE:America/Indiana/Indianapolis
X-WR-CALNAME:Upcoming Auctions
BEGIN:VEVENT
UID:134921
DTSTAMP:20250203T152500
DTSTART:20250203T152500
DTEND:20250211T194500
SUMMARY:Hidden Treasures Gallery #3108
LOCATION:1210 Cold Springs Rd\, Stuarts Draft\, VA 24477\, US
DESCRIPTION:Electric bikes\, Traeger and Pit Boss smokers\, Stihl saws and
  trimmer\, wood working tools\, vinyl records\, AR accessories 
 and MORE! Bid your price - everything sells! 
URL:https://www.enlistedauctions.com/auctions/detail/bw134921
SEQUENCE:1
END:VEVENT
END:VCALENDAR