BEGIN:VCALENDAR
VERSION:2.0
PRODID:-//ExpressionEngine Easy iCalendar plugin//NONSGML v2.0.0//EN
X-WR-TIMEZONE:America/New_York
X-WR-CALNAME:Upcoming Auctions
BEGIN:VEVENT
UID:133944
DTSTAMP:20250114T144600
DTSTART:20250114T144600
DTEND:20250127T200000
SUMMARY:Tinkling Spring Gallery #206
LOCATION:2177 Tinkling Spring RD \, Stuarts Draft\, VA 24477\, US
DESCRIPTION:Fantastic toy and collector auction! Featuring gas and elect
 ric RC airplanes\, vintage metal toys\, neon signs\, jukeboxes 
 and MORE! Don't miss this one - everything sells! 
URL:https://www.enlistedauctions.com/auctions/detail/bw133944
SEQUENCE:1
END:VEVENT
END:VCALENDAR