BEGIN:VCALENDAR
VERSION:2.0
PRODID:-//ExpressionEngine Easy iCalendar plugin//NONSGML v2.0.0//EN
X-WR-TIMEZONE:America/Indiana/Indianapolis
X-WR-CALNAME:Upcoming Auctions
BEGIN:VEVENT
UID:133590
DTSTAMP:20250108T075000
DTSTART:20250108T075000
DTEND:20250121T200000
SUMMARY:Cold Springs Gallery #2105
LOCATION:1210 Cold Springs Rd\, Stuarts Draft\, VA 24477\, US
DESCRIPTION:B.C. Rich electric guitar\, Leupold optics\, sterling silver\, 
 woodworking equipment\, antique furniture\, tools\, The Joker p
 rint\, Stihl hedge trimmer and 500 MORE items! Don't hesitate
  - bid now! 
URL:https://www.enlistedauctions.com/auctions/detail/bw133590
SEQUENCE:1
END:VEVENT
END:VCALENDAR