BEGIN:VCALENDAR
VERSION:2.0
PRODID:-//ExpressionEngine Easy iCalendar plugin//NONSGML v2.0.0//EN
X-WR-TIMEZONE:America/New_York
X-WR-CALNAME:Upcoming Auctions
BEGIN:VEVENT
UID:133290
DTSTAMP:20241231T155400
DTSTART:20241231T155400
DTEND:20250115T200000
SUMMARY:Ammo And Accessories #5204
LOCATION:2177 Tinkling Spring RD \, Stuarts Draft\, VA 24477\, US
DESCRIPTION:Large variety of ammunition - military surplus\, 9mm\, 45 Long
  Colt\, 303 British\, 380 Auto\, Shotgun ammo and MORE! It all 
 sells so bid YOUR price! 
URL:https://www.enlistedauctions.com/auctions/detail/bw133290
SEQUENCE:1
END:VEVENT
END:VCALENDAR