BEGIN:VCALENDAR
VERSION:2.0
PRODID:-//ExpressionEngine Easy iCalendar plugin//NONSGML v2.0.0//EN
X-WR-TIMEZONE:America/Indiana/Indianapolis
X-WR-CALNAME:Upcoming Auctions
BEGIN:VEVENT
UID:133195
DTSTAMP:20241230T075200
DTSTART:20241230T075200
DTEND:20250107T194500
SUMMARY:Hidden Treasures Gallery #3103
LOCATION:1210 Cold Springs Rd\, Stuarts Draft\, VA 24477\, US
DESCRIPTION:Grizzly woodworking tools\, new store returns\, Wii games\, Kit
 chenAid mixer\, wrought iron patio set\, a boat and MORE! Bid 
 and win at your price! 
URL:https://www.enlistedauctions.com/auctions/detail/bw133195
SEQUENCE:1
END:VEVENT
END:VCALENDAR