BEGIN:VCALENDAR
VERSION:2.0
PRODID:-//ExpressionEngine Easy iCalendar plugin//NONSGML v2.0.0//EN
X-WR-TIMEZONE:America/New_York
X-WR-CALNAME:Upcoming Auctions
BEGIN:VEVENT
UID:132930
DTSTAMP:20241219T124700
DTSTART:20241219T124700
DTEND:20250106T200000
SUMMARY:Tinkling Spring Gallery #203
LOCATION:2177 Tinkling Spring RD \, Stuarts Draft\, VA 24477\, US
DESCRIPTION:We will offer an alternate pickup date on Wed\, Jan. 8. We WI
 LL BE OPEN on Jan. 7 for pickup from 8 AM to 6 PM.  Bid for
  items from the Harold and Brenda Reid estate. Personalized 
 Statler Brothers items - CDs and books with notes to Harold 
 Reid\, leather furniture and MORE! 
URL:https://www.enlistedauctions.com/auctions/detail/bw132930
SEQUENCE:1
END:VEVENT
END:VCALENDAR