BEGIN:VCALENDAR
VERSION:2.0
PRODID:-//ExpressionEngine Easy iCalendar plugin//NONSGML v2.0.0//EN
X-WR-TIMEZONE:America/Indiana/Indianapolis
X-WR-CALNAME:Upcoming Auctions
BEGIN:VEVENT
UID:132894
DTSTAMP:20241218T155600
DTSTART:20241218T155600
DTEND:20250107T200000
SUMMARY:Cold Springs Gallery #2103
LOCATION:1210 Cold Springs Rd\, Stuarts Draft\, VA 24477\, US
DESCRIPTION:Mid-century furniture\, Nintendo NES game console and games\, 
 chest freezer\, sockets and wrenches\, art\, living room furnit
 ure and MORE! Bid your price - it all sells.
URL:https://www.enlistedauctions.com/auctions/detail/bw132894
SEQUENCE:1
END:VEVENT
END:VCALENDAR