BEGIN:VCALENDAR
VERSION:2.0
PRODID:-//ExpressionEngine Easy iCalendar plugin//NONSGML v2.0.0//EN
X-WR-TIMEZONE:America/Indiana/Indianapolis
X-WR-CALNAME:Upcoming Auctions
BEGIN:VEVENT
UID:132749
DTSTAMP:20241216T135400
DTSTART:20241216T135400
DTEND:20241231T194500
SUMMARY:Hidden Treasures Gallery #3102
LOCATION:1210 Cold Springs Rd\, Stuarts Draft\, VA 24477\, US
DESCRIPTION:Buy a refrigerator\, tools\, a snowboard\, furniture and more a
 ll at prices that YOU control! Bid high and win. 
URL:https://www.enlistedauctions.com/auctions/detail/bw132749
SEQUENCE:1
END:VEVENT
END:VCALENDAR