BEGIN:VCALENDAR
VERSION:2.0
PRODID:-//ExpressionEngine Easy iCalendar plugin//NONSGML v2.0.0//EN
X-WR-TIMEZONE:America/New_York
X-WR-CALNAME:Upcoming Auctions
BEGIN:VEVENT
UID:132725
DTSTAMP:20241218T184400
DTSTART:20241218T184400
DTEND:20250107T194500
SUMMARY:Coins and Currency #5103
LOCATION:1210 Cold Springs Rd\, Stuarts Draft\, VA 24477\, US
DESCRIPTION:Another great coin and currency auction for your bidding ple
 asure! 500+ lots of coins ad currency. Whether you're starti
 ng your collection or adding to it you don't want to miss th
 is one! 
URL:https://www.enlistedauctions.com/auctions/detail/bw132725
SEQUENCE:1
END:VEVENT
END:VCALENDAR