BEGIN:VCALENDAR
VERSION:2.0
PRODID:-//ExpressionEngine Easy iCalendar plugin//NONSGML v2.0.0//EN
X-WR-TIMEZONE:America/New_York
X-WR-CALNAME:Upcoming Auctions
BEGIN:VEVENT
UID:132423
DTSTAMP:20241209T160600
DTSTART:20241209T160600
DTEND:20241230T200000
SUMMARY:Tinkling Spring Gallery #202
LOCATION:2177 Tinkling Spring RD \, Stuarts Draft\, VA 24477\, US
DESCRIPTION:Electric living room furniture\, large screen TVs\, king size 
 bed\, Sleep Number bed\, quality antique furniture\, rustic hou
 sehold decor\, hand tools and MORE! Bid your price - everythi
 ng must sell! 
URL:https://www.enlistedauctions.com/auctions/detail/bw132423
SEQUENCE:1
END:VEVENT
END:VCALENDAR