BEGIN:VCALENDAR
VERSION:2.0
PRODID:-//ExpressionEngine Easy iCalendar plugin//NONSGML v2.0.0//EN
X-WR-TIMEZONE:America/Indiana/Indianapolis
X-WR-CALNAME:Upcoming Auctions
BEGIN:VEVENT
UID:132379
DTSTAMP:20241209T075100
DTSTART:20241209T075100
DTEND:20241231T200000
SUMMARY:Cold Springs Gallery #2102
LOCATION:1210 Cold Springs Rd\, Stuarts Draft\, VA 24477\, US
DESCRIPTION:Liberty gun safe\, Honda Accord\, enclosed trailer\, Longaberge
 r baskets and stoneware\, furniture\, electronics\, collectible
 s\, exercise equipment and MORE! Over 500 items to choose fro
 m including items donated to Love Inc - proceeds benefit Lov
 e Inc for those items. 
URL:https://www.enlistedauctions.com/auctions/detail/bw132379
SEQUENCE:1
END:VEVENT
END:VCALENDAR