BEGIN:VCALENDAR
VERSION:2.0
PRODID:-//ExpressionEngine Easy iCalendar plugin//NONSGML v2.0.0//EN
X-WR-TIMEZONE:America/Indiana/Indianapolis
X-WR-CALNAME:Upcoming Auctions
BEGIN:VEVENT
UID:132377
DTSTAMP:20241209T074700
DTSTART:20241209T074700
DTEND:20241217T194500
SUMMARY:Hidden Treasures Gallery #3101
LOCATION:1210 Cold Springs Rd\, Stuarts Draft\, VA 24477\, US
DESCRIPTION:This week's Hidden Treasure Gallery is FULL of treasures! Af
 rican art\, Snap-On tools\, wheels and tires\, original paintin
 gs\, cast iron skillets\, anvils AND MORE! 
URL:https://www.enlistedauctions.com/auctions/detail/bw132377
SEQUENCE:1
END:VEVENT
END:VCALENDAR