BEGIN:VCALENDAR
VERSION:2.0
PRODID:-//ExpressionEngine Easy iCalendar plugin//NONSGML v2.0.0//EN
X-WR-TIMEZONE:America/New_York
X-WR-CALNAME:Upcoming Auctions
BEGIN:VEVENT
UID:132193
DTSTAMP:20241204T172600
DTSTART:20241204T172600
DTEND:20241219T200000
SUMMARY:VAA Fundraiser Auction
LOCATION:2177 Tinkling Springs Rd\, Stuarts Draft\, VA 24477\, US
DESCRIPTION:100% of the proceeds of this auction will go to the Virginia
  Auctioneers Association.  Since its founding in 1958\, the 
 mission of the Virginia Auctioneers Association (VAA) has be
 en to promote the professionalism of auctioneers and auction
 s through education and technology. 
URL:https://www.enlistedauctions.com/auctions/detail/bw132193
SEQUENCE:1
END:VEVENT
END:VCALENDAR