BEGIN:VCALENDAR
VERSION:2.0
PRODID:-//ExpressionEngine Easy iCalendar plugin//NONSGML v2.0.0//EN
X-WR-TIMEZONE:America/New_York
X-WR-CALNAME:Upcoming Auctions
BEGIN:VEVENT
UID:132177
DTSTAMP:20241206T130000
DTSTART:20241206T130000
DTEND:20241219T200000
SUMMARY:Estate of Colonel
LOCATION:349 Railroad Station Ln\, Fishersville\, VA  22939\, US
DESCRIPTION:Bid for farm items from the Estate of Colonel "Bill" Lockri
 dge in Fishersville\, VA. Tractors\, Bush hog\, fencing\, buggi
 es and wagons\, implements and more are all available. 
URL:https://www.enlistedauctions.com/auctions/detail/bw132177
SEQUENCE:1
END:VEVENT
END:VCALENDAR