BEGIN:VCALENDAR
VERSION:2.0
PRODID:-//ExpressionEngine Easy iCalendar plugin//NONSGML v2.0.0//EN
X-WR-TIMEZONE:America/Indiana/Indianapolis
X-WR-CALNAME:Upcoming Auctions
BEGIN:VEVENT
UID:132005
DTSTAMP:20241202T075500
DTSTART:20241202T075500
DTEND:20241217T200000
SUMMARY:Cold Springs Gallery #2101
LOCATION:1210 Cold Springs Rd\, Stuarts Draft\, VA 24477\, US
DESCRIPTION:Outdoor enthusiast auction! European mounts of whitetail buc
 ks\, elk and other trophy animals along with NWTF collector i
 tems\, game calls\, tree stands\, household furniture items and
  much MORE! Bid your price - everything sells regardless of 
 price. 
URL:https://www.enlistedauctions.com/auctions/detail/bw132005
SEQUENCE:1
END:VEVENT
END:VCALENDAR