BEGIN:VCALENDAR
VERSION:2.0
PRODID:-//ExpressionEngine Easy iCalendar plugin//NONSGML v2.0.0//EN
X-WR-TIMEZONE:America/Indiana/Indianapolis
X-WR-CALNAME:Upcoming Auctions
BEGIN:VEVENT
UID:131863
DTSTAMP:20241126T144600
DTSTART:20241126T144600
DTEND:20241210T194500
SUMMARY:Hidden Treasures Gallery #3100
LOCATION:1210 Cold Springs Rd\, Stuarts Draft\, VA 24477\, US
DESCRIPTION:Don't enjoy going Christmas shopping? Buy tools\, vintage sig
 ns\, furniture\, toys and more! Bid your price and WIN. 
URL:https://www.enlistedauctions.com/auctions/detail/bw131863
SEQUENCE:1
END:VEVENT
END:VCALENDAR