BEGIN:VCALENDAR
VERSION:2.0
PRODID:-//ExpressionEngine Easy iCalendar plugin//NONSGML v2.0.0//EN
X-WR-TIMEZONE:America/Indiana/Indianapolis
X-WR-CALNAME:Upcoming Auctions
BEGIN:VEVENT
UID:131751
DTSTAMP:20241125T074400
DTSTART:20241125T074400
DTEND:20241210T200000
SUMMARY:Cold Springs Gallery #2100
LOCATION:{location}
DESCRIPTION:LOCATION: 1210 Cold Springs Rd\, Stuarts Draft\, VA\, 24477 PRE
 VIEW: Any Tuesday from 3 PM to 6 PM or any Wednesday from 8 
 AM to 10 AM or 3 PM to 6 PM PICKUP: Wednesday\, Dec 11\, from 
 8 AM to 10 AM or 3 PM to 6 PM. CONTACT: Office (540) 337-344
 6\, info@enlistedauctions.com Buyer's Premium: 10% 3% card pr
 ocessing fee All items are sold AS IS with no warranties exp
 ressed or implied Shipping is available. Buyer pays shipping
  and handling. Items shipped through UPS. Items not claimed 
 by the end of the scheduled pickup times will be charged a $
 5 alternate pickup fee.
URL:https://www.enlistedauctions.com/auctions/detail/bw131751
SEQUENCE:1
END:VEVENT
END:VCALENDAR