BEGIN:VCALENDAR
VERSION:2.0
PRODID:-//ExpressionEngine Easy iCalendar plugin//NONSGML v2.0.0//EN
X-WR-TIMEZONE:America/New_York
X-WR-CALNAME:Upcoming Auctions
BEGIN:VEVENT
UID:131310
DTSTAMP:20241114T142800
DTSTART:20241114T142800
DTEND:20241202T200000
SUMMARY:Tinkling Spring Gallery #199
LOCATION:2177 Tinkling Spring RD \, Stuarts Draft\, VA 24477\, US
DESCRIPTION:LOCATION: 2177 Tinkling Spring Rd\, Stuarts Draft\, Va 24477 P
 REVIEW: Any Monday (11/25 & 11/26 preview ends at 4:30) fro
 m 3 PM - 6 PM or any Tuesday from 8 AM - 10 AM & 3 PM - 6 PM
 . PICKUP: Tuesday\, December 3\, 2024\, from 8 AM - 10 AM and 3
  PM - 6 PM Contact: Office\, (540) 337-3446\, info@enlistedauc
 tions.com Buyer's Premium: 10% 3% card processing fee Shippi
 ng is available. Items are shipped through UPS\, zip code is 
 24477. All items are sold AS IS Items not claimed by the end
  of the scheduled pickup times will be charged a $5 alternat
 e pickup fee.
URL:https://www.enlistedauctions.com/auctions/detail/bw131310
SEQUENCE:1
END:VEVENT
END:VCALENDAR