BEGIN:VCALENDAR
VERSION:2.0
PRODID:-//ExpressionEngine Easy iCalendar plugin//NONSGML v2.0.0//EN
X-WR-TIMEZONE:America/New_York
X-WR-CALNAME:Upcoming Auctions
BEGIN:VEVENT
UID:131169
DTSTAMP:20241112T150400
DTSTART:20241112T150400
DTEND:20241126T200000
SUMMARY:Cold Springs Gallery #2098
LOCATION:1210 Cold Springs Rd\, Stuarts Draft\, VA 24477\, US
DESCRIPTION:Great variety of items for you to bid on! Samsung Smart Watc
 h\, Virginia Metalcrafters\, vintage and modern furniture\, ele
 ctronics\, tools and MORE! 
URL:https://www.enlistedauctions.com/auctions/detail/bw131169
SEQUENCE:1
END:VEVENT
END:VCALENDAR