BEGIN:VCALENDAR
VERSION:2.0
PRODID:-//ExpressionEngine Easy iCalendar plugin//NONSGML v2.0.0//EN
X-WR-TIMEZONE:America/New_York
X-WR-CALNAME:Upcoming Auctions
BEGIN:VEVENT
UID:128945
DTSTAMP:20241004T112600
DTSTART:20241004T112600
DTEND:20241021T200000
SUMMARY:Ammo and Accessories #5093
LOCATION:2177 Tinkling Spring RD \, Stuarts Draft\, VA 24477\, US
DESCRIPTION:MASSIVE ammunition and accessories auction! This auction fea
 tures a wide variety of calibers from 22-250\, 257 Roberts\, 3
 00 H&H\, 7.7 Jap\, 224 Valkyrie\, 300 Savage\, 270 Win\, 45-70 Go
 vt\, 264 Win\, 460 S&W and MORE! Bid your price and prepare fo
 r hunting whitetail or Safari animals. It's all here. 
URL:https://www.enlistedauctions.com/auctions/detail/bw128945
SEQUENCE:1
END:VEVENT
END:VCALENDAR