BEGIN:VCALENDAR
VERSION:2.0
PRODID:-//ExpressionEngine Easy iCalendar plugin//NONSGML v2.0.0//EN
X-WR-TIMEZONE:America/New_York
X-WR-CALNAME:Upcoming Auctions
BEGIN:VEVENT
UID:127582
DTSTAMP:20240912T084100
DTSTART:20240912T084100
DTEND:20240925T200000
SUMMARY:Ammunition & Knife Auction #5089
LOCATION:2177 Tinkling Spring RD \, Stuarts Draft\, VA 24477\, US
DESCRIPTION:Thousands and thousands of rounds of ammunition in 22LR\, 444
  Marlin\, 45-70 Gov\, 9mm\, 45 Auto\, 243 Win\, 223 Rem as well a
 s quality knives are all available! Bid your price - everyt
 hing must go! 
URL:https://www.enlistedauctions.com/auctions/detail/bw127582
SEQUENCE:1
END:VEVENT
END:VCALENDAR