BEGIN:VCALENDAR
VERSION:2.0
PRODID:-//ExpressionEngine Easy iCalendar plugin//NONSGML v2.0.1//EN
X-WR-TIMEZONE:America/New_York
X-WR-CALNAME:Upcoming Auctions
BEGIN:VEVENT
UID:114201
DTSTAMP:20240122T000000
DTSTART:20240122T000000
DTEND:20240130T194500
SUMMARY:Hidden Treasures Gallery #3055
LOCATION:1210 Cold Springs Rd\, P/U: 1/31 *8-10a & 3-6p\, Stuarts Draft
 \, VA 24477\, US
DESCRIPTION:Commercial Ice Maker\, Stainless Steel Table\, Baseball Cards\,
  Chest Freezer\, Refrigerator and more! Everything sells to t
 he highest bidder!
URL:https://www.enlistedauctions.com/auctions/detail/bw114201
SEQUENCE:1
END:VEVENT
END:VCALENDAR